BEGIN:VCALENDAR
VERSION:2.0
PRODID:-//ChamberMaster//Event Calendar 2.0//EN
METHOD:PUBLISH
X-PUBLISHED-TTL:P3D
REFRESH-INTERVAL:P3D
CALSCALE:GREGORIAN
BEGIN:VEVENT
DTSTART:20121026T223000Z
DTEND:20121026T233000Z
X-MICROSOFT-CDO-ALLDAYEVENT:FALSE
SUMMARY:ZUMBA Halloween Bash
DESCRIPTION:Come dressed in costume\, or in just your ZUMBA workouts :)\n\nWe'll start at 630pm so everyone has a little extra time to change if you choose to do so :) Come on down and celebrate with us\, and work it! Let's have an added step of fun and still meet those fitness goals!!!
X-ALT-DESC;FMTTYPE=text/html:Come dressed in costume\, or in just your ZUMBA workouts :)<br />\nWe&#39\;ll start at 630pm so everyone has a little extra time to change if you choose to do so :) Come on down and celebrate with us\, and work it! Let&#39\;s have an added step of fun and still meet those fitness goals!!!&nbsp\;
LOCATION:Brickhouse Cardio Club 12 High Street Riverwalk #1
UID:e.726.3022
SEQUENCE:3
DTSTAMP:20260421T161739Z
URL:https://www.oceanchamber.org/events/details/zumba-halloween-bash-3022
END:VEVENT

END:VCALENDAR
