BEGIN:VCALENDAR
VERSION:2.0
PRODID:-//ChamberMaster//Event Calendar 2.0//EN
METHOD:PUBLISH
X-PUBLISHED-TTL:P3D
REFRESH-INTERVAL:P3D
CALSCALE:GREGORIAN
BEGIN:VEVENT
DTSTART:20121031T210000Z
DTEND:20121031T233000Z
X-MICROSOFT-CDO-ALLDAYEVENT:FALSE
SUMMARY:Trick or Treating Mystic Aquarium
DESCRIPTION:As trick-or-treating is being canceled around the region in the aftermath of Hurricane Sandy\, Sea Research Foundation's Mystic Aquarium is opening its doors on Wednesday\, Oct. 31 from 5 p.m. to 7:30 p.m. for a free\, safe\, family-friendly trick-or-treating event among the aquarium's exhibits.\n\n	All are welcome to attend and Mystic Aquarium will accommodate as many families as possible during that time. Last admission is at 7:30 p.m. and\, once inside\, guests may stay until 8 p.m.\n\n	Mystic Aquarium did not sustain any damage from the storm and resumes regular business hours on Oct. 31.
X-ALT-DESC;FMTTYPE=text/html:As trick-or-treating is being canceled around the region in the aftermath of Hurricane Sandy\, Sea Research Foundation&rsquo\;s Mystic Aquarium is opening its doors on Wednesday\, Oct. 31 from 5 p.m. to 7:30 p.m. for a free\, safe\, family-friendly trick-or-treating event among the aquarium&rsquo\;s exhibits.\n<p>\n	All are welcome to attend and Mystic Aquarium will accommodate as many families as possible during that time. Last admission is at 7:30 p.m. and\, once inside\, guests may stay until 8 p.m.</p>\n<p>\n	Mystic Aquarium did not sustain any damage from the storm and resumes regular business hours on Oct. 31.</p>\n
LOCATION:Mystic Aquarium 55 Coogan Blvd Mystic\, CT
UID:e.726.3055
SEQUENCE:3
DTSTAMP:20260422T161228Z
URL:https://www.oceanchamber.org/events/details/trick-or-treating-mystic-aquarium-3055
END:VEVENT

END:VCALENDAR
