BEGIN:VCALENDAR
VERSION:2.0
PRODID:-//ChamberMaster//Event Calendar 2.0//EN
METHOD:PUBLISH
X-PUBLISHED-TTL:P3D
REFRESH-INTERVAL:P3D
CALSCALE:GREGORIAN
BEGIN:VEVENT
DTSTART:20121129T230000Z
DTEND:20121130T040000Z
X-MICROSOFT-CDO-ALLDAYEVENT:FALSE
SUMMARY:' Tis The Season For Mohegan Sun's World Of Holiday Marvels
DESCRIPTION:On Thursday\, November 29th at The Shops at Mohegan Sun\, come celebrate the return of Mohegan Sun's World of Holiday Marvels as the property turns into a winter wonderland this November and December with "ice" creatures\, a tree scene\,life-size ornaments and so much more!\n\n\n\nStarting at 6:00pm on Thursday\, November 29th\, holiday cookies\, hot cocoa and hot cider will be available at the Gingerbread House located in the center of The Shops concourse. Bring the family and walk through this life-size\, 28-foot masterpiece that includes a fireplace and 7-foot soldiers at each doorway. After\, enjoy as Nutcracker ballerinas put on a performance for the crowd!\n\n\n\nThen\, at 7:00pm\, watch on screens throughout The Shops concourse as the outdoor tree gets lit up for the first time this season!
X-ALT-DESC;FMTTYPE=text/html:On Thursday\, November 29th at The Shops at Mohegan Sun\, come celebrate the return of Mohegan Sun&rsquo\;s World of Holiday Marvels as the property turns into a winter wonderland this November and December with &quot\;ice&quot\; creatures\, a tree scene\,life-size ornaments and so much more!<br />\n<br />\nStarting at 6:00pm on Thursday\, November 29th\, holiday cookies\, hot cocoa and hot cider will be available at the Gingerbread House located in the center of The Shops concourse. Bring the family and walk through this life-size\, 28-foot masterpiece that includes a fireplace and 7-foot soldiers at each doorway. After\, enjoy as Nutcracker ballerinas put on a performance for the crowd!<br />\n<br />\nThen\, at 7:00pm\, watch on screens throughout The Shops concourse as the outdoor tree gets lit up for the first time this season! &nbsp\;
LOCATION:The Shops at Mohegan Sun
UID:e.726.3065
SEQUENCE:3
DTSTAMP:20260421T165840Z
URL:https://www.oceanchamber.org/events/details/tis-the-season-for-mohegan-sun-s-world-of-holiday-marvels-3065
END:VEVENT

END:VCALENDAR
