BEGIN:VCALENDAR
VERSION:2.0
PRODID:-//ChamberMaster//Event Calendar 2.0//EN
METHOD:PUBLISH
X-PUBLISHED-TTL:P3D
REFRESH-INTERVAL:P3D
CALSCALE:GREGORIAN
BEGIN:VEVENT
DTSTART:20121006T140000Z
DTEND:20121008T220000Z
X-MICROSOFT-CDO-ALLDAYEVENT:FALSE
SUMMARY:The 11th Annual Monty's Fall Festival
DESCRIPTION:Monty's Fall Festival includes fall crafts\, face painting\, a magic show\, moon bounce\, petting zoo and more. The highlight of the festival is a concert at 1PM on Sunday October 7 by Steve Elci and Friends\, the famed children's music group from Waterford\, CT known for their musical "Edu-tainment" performances.\n\n\n\nOther activities at the festival include The New York Life Child ID Program\, Dime Bank face painting\, a performance by magician Zach Ivins\, April's Balloon Creations balloon bending\, and Circle K Farm's live animal petting zoo.\n\n\n\nDuring Monty's Fall Festival\, $1.00 from each admission fee (up to $500) will be donated to L+M Hospital's Breast and Cervical Cancer Early Detection program\, providing free mammograms for uninsured and under-insured women.
X-ALT-DESC;FMTTYPE=text/html:Monty&rsquo\;s Fall Festival includes fall crafts\, face painting\, a magic show\, moon bounce\, petting zoo and more. The highlight of the festival is a concert at 1PM on Sunday October 7 by Steve Elci and Friends\, the famed children&rsquo\;s music group from Waterford\, CT known for their musical &ldquo\;Edu-tainment&rdquo\; performances.<br />\n<br />\nOther activities at the festival include The New York Life Child ID Program\, Dime Bank face painting\, a performance by magician Zach Ivins\, April&rsquo\;s Balloon Creations balloon bending\, and Circle K Farm&rsquo\;s live animal petting zoo.<br />\n<br />\nDuring Monty&rsquo\;s Fall Festival\, $1.00 from each admission fee (up to $500) will be donated to L+M Hospital&rsquo\;s Breast and Cervical Cancer Early Detection program\, providing free mammograms for uninsured and under-insured women.<br />\n
LOCATION:Nature's Art: The Dinosaur Place 1650 Hartford New London Turnpike\, Oakdale\, CT
UID:e.726.2978
SEQUENCE:3
DTSTAMP:20260419T170001Z
URL:https://www.oceanchamber.org/events/details/the-11th-annual-monty-s-fall-festival-2978
END:VEVENT

END:VCALENDAR
