BEGIN:VCALENDAR
VERSION:2.0
PRODID:-//ChamberMaster//Event Calendar 2.0//EN
METHOD:PUBLISH
X-PUBLISHED-TTL:P3D
REFRESH-INTERVAL:P3D
CALSCALE:GREGORIAN
BEGIN:VEVENT
DTSTART:20121117T200000Z
DTEND:20121117T220000Z
X-MICROSOFT-CDO-ALLDAYEVENT:FALSE
SUMMARY:St. Michaels's Girls Basketball FUNdraiser
DESCRIPTION:Bring your "A" game and participate in an afternoon of competition to benefit the SMS Girls Basketball Program.\n\n\n\nRegister as a team of 5 and participate in 5 stations of competition with the top teams moving forward through each round to the finals. Every team is guaranteed to play at least twice. Who will be victorious?!\n\n\n\nEach team will compete in at least two rounds of competition\, a seed round and then single elimination round. Think of it as a seeding round to familiarize yourself with the format then single team elimination\, aka NCAA March Madness Tournament.\n\n\n\nSpecial awards will be given for the "best costumed team"\, "youngest team"\, "most senior team"\, among others. This event is for all ages and open to the public.\n\n\n\nThe cost to participate is $50 per team. Registration materials available by calling Precision Fitness at 401-489-0551 or emailing tcambio@goprecisionfitness.com.\n\n\n\nThe St. Michael's girls are fundraising to cover a number of expenses for their team this year\, including: the purchase of basketballs and equipment for practices and games\, transportation fees\, referee costs\, warm ups and travel bags\, trophies and awards banquet night. (they didnt even get trophies last year when they won their division!)\n\n\n\nThe team will be at the November 17thfundraiser selling waters\, Gatorade\, T-Shirts\, as well as competing in the event.\n\n\n\nCant make but still want to donate\, simply go here:\n\n\n\nhttp://www.toddcambio.com/2012/11/sms-girls-basketball-fundraiser-turkey.html\n\n\n\nAny amout will help these girls!
X-ALT-DESC;FMTTYPE=text/html:Bring your &quot\;A&quot\; game and participate in an afternoon of competition to benefit the SMS Girls Basketball Program.<br />\n<br />\nRegister as a team of 5 and participate in 5 stations of competition with the top teams moving forward through each round to the finals. Every team is guaranteed to play at least twice. Who will be victorious?!<br />\n<br />\nEach team will compete in at least two rounds of competition\, a seed round and then single elimination round. Think of it as a seeding round to familiarize yourself with the format then single team elimination\, aka NCAA March Madness Tournament.<br />\n<br />\nSpecial awards will be given for the &quot\;best costumed team&quot\;\, &quot\;youngest team&quot\;\, &quot\;most senior team&quot\;\, among others. This event is for all ages and open to the public.<br />\n<br />\nThe cost to participate is $50 per team. Registration materials available by calling Precision Fitness at 401-489-0551 or emailing tcambio@goprecisionfitness.com.<br />\n<br />\nThe St. Michael&rsquo\;s girls are fundraising to cover a number of expenses for their team this year\, including: the purchase of basketballs and equipment for practices and games\, transportation fees\, referee costs\, warm ups and travel bags\, trophies and awards banquet night. (they didnt even get trophies last year when they won their division!)<br />\n<br />\nThe team will be at the November 17thfundraiser selling waters\, Gatorade\, T-Shirts\, as well as competing in the event.<br />\n<br />\nCant make but still want to donate\, simply go here:<br />\n<br />\nhttp://www.toddcambio.com/2012/11/sms-girls-basketball-fundraiser-turkey.html<br />\n<br />\nAny amout will help these girls!&nbsp\;
LOCATION:Precision Fitness\, 37 West Broad Street\, Pawcatuck
UID:e.726.3058
SEQUENCE:3
DTSTAMP:20260421T165712Z
URL:https://www.oceanchamber.org/events/details/st-michaels-s-girls-basketball-fundraiser-3058
END:VEVENT

END:VCALENDAR
