BEGIN:VCALENDAR
VERSION:2.0
PRODID:-//ChamberMaster//Event Calendar 2.0//EN
METHOD:PUBLISH
X-PUBLISHED-TTL:P3D
REFRESH-INTERVAL:P3D
CALSCALE:GREGORIAN
BEGIN:VEVENT
DTSTART:20121031T140000Z
DTEND:20121031T180000Z
X-MICROSOFT-CDO-ALLDAYEVENT:FALSE
SUMMARY:Scary Native Stories in the Longhouse
DESCRIPTION:Scary Native Stories\n\nin the Longhouse\n\nListen to short\, scary stories by Native authors in the Pequot Village's Longhouse. Find out how heroes get the better of monsters by using skills\, intelligence\, and wisdom from elders. Experience cautionary tales of what can happen if you don't do what is proper and right. Free with Museum admission\, free to Museum members.
X-ALT-DESC;FMTTYPE=text/html:<strong><span style="color:black\;"><span style="font-family:arial\,sans-serif\;"><span style="font-size:18.0pt\;">Scary Native Stories</span></span></span></strong><br />\n<strong><span style="color:black\;"><span style="font-family:arial\,sans-serif\;"><span style="font-size:18.0pt\;"><strong><span style="font-family:arial\,sans-serif\;">in the Longhouse</span></strong></span></span></span></strong><br />\n<span style="color:black\;"><span style="font-family:arial\,sans-serif\;"><span style="font-size:10.0pt\;">Listen to short\, scary stories by Native authors in the Pequot Village&#39\;s Longhouse. Find out how heroes get the better of monsters by using skills\, intelligence\, and wisdom from elders. Experience cautionary tales of what can happen if you don&#39\;t do what is proper and right. Free with Museum admission\, free to Museum members.</span></span></span>
LOCATION:Mashantucket Pequot Museum 110 Pequot Trail Mashantucket\, CT
UID:e.726.2990
SEQUENCE:3
DTSTAMP:20260421T162057Z
URL:https://www.oceanchamber.org/events/details/scary-native-stories-in-the-longhouse-2990
END:VEVENT

END:VCALENDAR
