BEGIN:VCALENDAR
VERSION:2.0
PRODID:-//ChamberMaster//Event Calendar 2.0//EN
METHOD:PUBLISH
X-PUBLISHED-TTL:P3D
REFRESH-INTERVAL:P3D
CALSCALE:GREGORIAN
BEGIN:VEVENT
DTSTART:20121012T130000Z
DTEND:20121012T170000Z
X-MICROSOFT-CDO-ALLDAYEVENT:FALSE
SUMMARY:RI Tourism Workshop and Lunch
DESCRIPTION:Click Here for information
X-ALT-DESC;FMTTYPE=text/html:<a href="http://cloud.chambermaster.com/userfiles/UserFiles/chambers/726/File/012RITChinaSeminar-3.pdf">Click Here for information</a>
LOCATION:Holiday Inn Tower Hill Rd South Kingstown\, RI
UID:e.726.2980
SEQUENCE:3
DTSTAMP:20260421T161906Z
URL:https://www.oceanchamber.org/events/details/ri-tourism-workshop-and-lunch-2980
END:VEVENT

END:VCALENDAR
