BEGIN:VCALENDAR
VERSION:2.0
PRODID:-//ChamberMaster//Event Calendar 2.0//EN
METHOD:PUBLISH
X-PUBLISHED-TTL:P3D
REFRESH-INTERVAL:P3D
CALSCALE:GREGORIAN
BEGIN:VEVENT
DTSTART:20140215T150000Z
DTEND:20140218T220000Z
X-MICROSOFT-CDO-ALLDAYEVENT:FALSE
SUMMARY:Presidents "ROCK" Weekend at Discovery Depot
DESCRIPTION:Visit Discovery Depot Indoor Activity Center at Nature's Art Village February 15th -18th and help us celebrate President's Day with FREE family-friendly activities all weekend long.  Activities include a balloon twisting\, scavenger hunt\, Rock Bingo\, daily raffles as well as FREEBIES with your activities and purchases in The Shops at Nature's Art. Regular paid activities like panning for "Gold" in Thunder Creek and digging for "Gems" in Jackpot Mine will still be available and kids\, remember your favorite grown-ups are always invited to watch for FREE! Visit www.naturesartvillage.com for the complete schedule of events.
X-ALT-DESC;FMTTYPE=text/html:<span style="font-family:calibri\,sans-serif\;"><span style="font-size:11.0pt\;">Visit Discovery Depot Indoor Activity Center at Nature&rsquo\;s Art Village February 15<sup>th</sup> -18<sup>th</sup> and help us celebrate President&rsquo\;s Day with FREE family-friendly activities all weekend long. &nbsp\;Activities include a balloon twisting\, scavenger hunt\, Rock Bingo\, daily raffles as well as FREEBIES with your activities and purchases in The Shops at Nature&rsquo\;s Art. Regular paid activities like panning for &ldquo\;Gold&rdquo\; in Thunder Creek and digging for &ldquo\;Gems&rdquo\; in Jackpot Mine will still be available and kids\, remember&hellip\;your favorite grown-ups are always invited to watch for FREE!&nbsp\;</span></span><em><span style="font-family:calibri\,sans-serif\;"><span style="font-size:11.0pt\;">Visit www.naturesartvillage.com for the complete schedule of events.</span></span></em><br />\n<div>\n	&nbsp\;</div>\n
LOCATION:Discovery Depot at Nature's Art Village 1650 Hartford New London Turnpike\, Montville\, CT 06370
UID:e.726.4169
SEQUENCE:3
DTSTAMP:20260421T152342Z
URL:https://www.oceanchamber.org/events/details/presidents-rock-weekend-4169
END:VEVENT

END:VCALENDAR
