BEGIN:VCALENDAR
VERSION:2.0
PRODID:-//ChamberMaster//Event Calendar 2.0//EN
METHOD:PUBLISH
X-PUBLISHED-TTL:P3D
REFRESH-INTERVAL:P3D
CALSCALE:GREGORIAN
BEGIN:VEVENT
DTSTART:20121110T150000Z
DTEND:20121110T220000Z
X-MICROSOFT-CDO-ALLDAYEVENT:FALSE
SUMMARY:Mystic Seaport to Celebrate the Charles W. Morgan with Free Admission
DESCRIPTION:Mystic Seaport to Celebrate the Charles W. Morgan with Free Admission November 10\n\nSpecial Day to Culminate in a Spectacular Fireworks Display at 7 p.m.\n\n \n\nMystic\, Conn.   Mystic Seaport will celebrate the 71st anniversary of the arrival of the 1841 whaleship Charles W. Morgan by offering free admission to all visitors on Saturday\, November 10. The Museum exhibits will be open from 10 a.m. to 5 p.m. and the grounds will remain open to the public afterward in preparation for a fireworks show at 7 p.m.\n\nThe day will feature a variety of special Morgan-related presentations and demonstrations\, including talks by the shipwrights working on the restoration\, live music from the Museum's chanteymen\, and numerous activities for kids and families.\n\nFireworks begin promptly at 7 p.m. The pyrotechnics will be launched from a barge moored in the river and visitors are invited to view the display from Mystic Seaport grounds. The Galley Restaurant and Latitude 41  Restaurant & Tavern will be open for dinner.  Nighttime visitors are encouraged to bring a flashlight.\n\nThe day's free admission and fireworks are made possible by the generous sponsorship of Mohegan Sun.\n\nThe anniversary is an opportunity to recognize the importance the Charles W. Morgan has had in the development of the Museum and the community since she was towed up the river on Nov. 8\, 1941. The Morgan is the last wooden whaleship from the Age of Sail and is the oldest American commercial vessel still afloat. After an 80-year whaling career\, the Morgan was at risk of being broken up when she was offered to the infant Marine Historical Association (now Mystic Seaport). The acquisition of the ship raised the stature of the Museum significantly and helped put Mystic on the map of tourist destinations. The Museum estimates more than 20 million people have come to Mystic and walked her decks since 1941.\n\nDowntown Events\n\nThe Museum's celebration will be complimented by several events organized by Sail the Morgan 2014\, a local committee dedicated to raising $1.5 million to support the Morgan's 38th Voyage in 2014.\n\nAn arts presentation at the Mystic Arts Center will take place on Thursday\, November 8\, at 7:30 p.m.  "Insight and Inspiration from the Dalvero Academy Artists" will be a discussion of the current exhibit by the Academy at Mystic Seaport\, "Restoring a Past\, Charting a Future: An Artistic Discovery of America's Whaling Legacy by Dalvero Academy." Artists Susan Buroker\, Audrey Hawkins\, Margaret Hurst\, Veronica Lawlor\, and Dominic Santise will give a presentation about the Academy's artistic interpretation of the restoration of the Charles W. Morgan. The event is free and open to the public.\n\nOn November 10 there will be live music and activities at the Mystic River Park in downtown Mystic beginning at 10 a.m. Local music groups\, headlined by The Cartells at noon\, will perform over the course of the day. \n\nThe community events are organized in association with Mystic Restaurant Week\, which ends November 10. Latitude 41  Restaurant & Tavern is joining other local establishments to offer special menus and one-price dining all week. Participating restaurants and menus can be found by visiting www.mysticrestaurantweek.com\n\nFor more information about Sail the Morgan 2014 and how to help support the restoration and voyage\, please visit www.sailthemorgan.org or email advancement@mysticseaport.org.\n\n \n\nAbout Mystic Seaport \n\nMystic Seaport is the nation's leading maritime museum. Founded in 1929\, the Museum is home to four National Historic Landmark vessels\, including the 1841 whaleship Charles W. Morgan\, the oldest American commercial vessel still afloat. For more information\, please visit www.mysticseaport.org.
X-ALT-DESC;FMTTYPE=text/html:<strong>Mystic Seaport to Celebrate the <em>Charles W. Morgan</em> with Free Admission November 10</strong><br />\n<em>Special Day to Culminate in a Spectacular Fireworks Display at 7 p.m.</em><br />\n&nbsp\;<br />\n<strong><em>Mystic\, Conn. &ndash\;</em></strong> Mystic Seaport will celebrate the 71st anniversary of the arrival of the 1841 whaleship <em>Charles W. Morgan</em> by offering free admission to all visitors on Saturday\, November 10. The Museum exhibits will be open from 10 a.m. to 5 p.m. and the grounds will remain open to the public afterward in preparation for a fireworks show at 7 p.m.<br />\nThe day will feature a variety of special <em>Morgan</em>-related presentations and demonstrations\, including talks by the shipwrights working on the restoration\, live music from the Museum&rsquo\;s chanteymen\, and numerous activities for kids and families.<br />\nFireworks begin promptly at 7 p.m. The pyrotechnics will be launched from a barge moored in the river and visitors are invited to view the display from Mystic Seaport grounds. The Galley Restaurant and Latitude 41&deg\; Restaurant &amp\; Tavern will be open for dinner.&nbsp\; Nighttime visitors are encouraged to bring a flashlight.<br />\nThe day&rsquo\;s free admission and fireworks are made possible by the generous sponsorship of Mohegan Sun.<br />\nThe anniversary is an opportunity to recognize the importance the <em>Charles W. Morgan </em>has had in the development of the Museum and the community since she was towed up the river on Nov. 8\, 1941. The <em>Morgan </em>is the last wooden whaleship from the Age of Sail and is the oldest American commercial vessel still afloat. After an 80-year whaling career\, the <em>Morgan </em>was at risk of being broken up when she was offered to the infant Marine Historical Association (now Mystic Seaport). The acquisition of the ship raised the stature of the Museum significantly and helped put Mystic on the map of tourist destinations. The Museum estimates more than 20 million people have come to Mystic and walked her decks since 1941.<br />\n<strong>Downtown Events</strong><br />\nThe Museum&rsquo\;s celebration will be complimented by several events organized by Sail the <em>Morgan</em> 2014\, a local committee dedicated to raising $1.5 million to support the <em>Morgan&rsquo\;s</em> 38th Voyage in 2014.<br />\nAn arts presentation at the Mystic Arts Center will take place on Thursday\, November 8\, at 7:30 p.m.&nbsp\; &ldquo\;Insight and Inspiration from the Dalvero Academy Artists&rdquo\; will be a discussion of the current exhibit by the Academy at Mystic Seaport\, &quot\;Restoring a Past\, Charting a Future: An Artistic Discovery of America&#39\;s Whaling Legacy by Dalvero Academy.&quot\; Artists Susan Buroker\, Audrey Hawkins\, Margaret Hurst\, Veronica Lawlor\, and Dominic Santise will give a presentation about the Academy&#39\;s artistic interpretation of the restoration of the <em>Charles W. Morgan</em>. The event is free and open to the public.<br />\nOn November 10 there will be live music and activities at the Mystic River Park in downtown Mystic beginning at 10 a.m. Local music groups\, headlined by The Cartells at noon\, will perform over the course of the day.&nbsp\;<br />\nThe community events are organized in association with Mystic Restaurant Week\, which ends November 10. Latitude 41&deg\; Restaurant &amp\; Tavern is joining other local establishments to offer special menus and one-price dining all week. Participating restaurants and menus can be found by visiting <a href="http://www.mysticrestaurantweek.com">www.mysticrestaurantweek.com</a><br />\nFor more information about Sail the <em>Morgan</em> 2014 and how to help support the restoration and voyage\, please visit <a href="http://www.sailthemorgan.org">www.sailthemorgan.org</a> or email <a href="mailto:advancement@mysticseaport.org">advancement@mysticseaport.org</a>.<br />\n&nbsp\;<br />\n<strong><em>About Mystic Seaport </em></strong><br />\nMystic Seaport is the nation&rsquo\;s leading maritime museum. Founded in 1929\, the Museum is home to four National Historic Landmark vessels\, including the 1841 whaleship <em>Charles W. Morgan</em>\, the oldest American commercial vessel still afloat. For more information\, please visit <a href="http://www.mysticseaport.org">www.mysticseaport.org</a>.
LOCATION:Mystic Seaport 75 Greenmanville Ave Mystic\, CT
UID:e.726.3064
SEQUENCE:3
DTSTAMP:20260421T134930Z
URL:https://www.oceanchamber.org/events/details/mystic-seaport-to-celebrate-the-charles-w-morgan-with-free-admission-3064
END:VEVENT

END:VCALENDAR
