BEGIN:VCALENDAR
VERSION:2.0
PRODID:-//ChamberMaster//Event Calendar 2.0//EN
METHOD:PUBLISH
X-PUBLISHED-TTL:P3D
REFRESH-INTERVAL:P3D
CALSCALE:GREGORIAN
BEGIN:VEVENT
DTSTART;VALUE=DATE:20260510
DTEND;VALUE=DATE:20260511
TRANSP:TRANSPARENT
X-MICROSOFT-CDO-ALLDAYEVENT:TRUE
SUMMARY:Mother's Day Specials at Foxwoods Resort Casino
DESCRIPTION:Foxwoods is the all-in-one destination where every kind of mom gets her perfect day!\n\n\n\nMake this Mother's Day special with a dinner to remember at Cedars Steaks & Oysters or Gordon Ramsay Hell's Kitchen.\n\n\n\nTreat Mom like the winner she is with a special Bingo game.\n\n\n\nGive Mom more than just a gift give her a moment of peace with a gift card to The Norwich Spa.
X-ALT-DESC;FMTTYPE=text/html:Foxwoods is the&nbsp\;all-in-one destination&nbsp\;where every kind of mom gets&nbsp\;her perfect day!<br />\n<br />\nMake this Mother&rsquo\;s Day special with a dinner to remember at Cedars Steaks &amp\; Oysters or Gordon Ramsay Hell&#39\;s Kitchen.<br />\n<br />\nTreat Mom like the winner she is with a special Bingo game.<br />\n<br />\nGive Mom<span style="font-family:calibri\,sans-serif"><span style="font-size:11.0pt">&nbsp\;more than just a gift&mdash\;give her a moment of peace with a gift card to The Norwich Spa.</span></span><br />\n<br />\n&nbsp\;
LOCATION:Foxwoods Resort Casino
UID:e.726.49231
SEQUENCE:3
DTSTAMP:20260422T165734Z
URL:https://www.oceanchamber.org/events/details/mother-s-day-specials-at-foxwoods-resort-casino-49231
END:VEVENT

END:VCALENDAR
