BEGIN:VCALENDAR
VERSION:2.0
PRODID:-//ChamberMaster//Event Calendar 2.0//EN
METHOD:PUBLISH
X-PUBLISHED-TTL:P3D
REFRESH-INTERVAL:P3D
CALSCALE:GREGORIAN
BEGIN:VEVENT
DTSTART:20121022T220000Z
DTEND:20121023T010000Z
X-MICROSOFT-CDO-ALLDAYEVENT:FALSE
SUMMARY:Mad Science and Spooktacular Experiments
DESCRIPTION:Bring your kids down to Mel's and enjoy a fun show given by the Mad Scientist who will be doing Spooktacular Experiments for a Halloween Themed Night of Science fun! This is a Fun Filled and FREE event! Your kids will be able to participate in making their own fun experiments while you sit down and enjoy a sweet treat! Invite your friends. This event is a must see!
X-ALT-DESC;FMTTYPE=text/html:<span itemprop="description">Bring your kids down to Mel&#39\;s and enjoy a fun show given by the Mad Scientist who will be doing Spooktacular Experiments for a Halloween Themed Night of Science fun! This is a Fun Filled and FREE event! Your kids will be able to participate in making their own fun experiments while you sit down and enjoy a sweet treat! Invite your friends. This event is a must see! </span>
LOCATION:Mel's Downtown Creamery 37 West broad Street Pawcatuck\, CT
UID:e.726.3017
SEQUENCE:3
DTSTAMP:20260421T175338Z
URL:https://www.oceanchamber.org/events/details/mad-science-and-spooktacular-experiments-3017
END:VEVENT

END:VCALENDAR
