BEGIN:VCALENDAR
VERSION:2.0
PRODID:-//ChamberMaster//Event Calendar 2.0//EN
METHOD:PUBLISH
X-PUBLISHED-TTL:P3D
REFRESH-INTERVAL:P3D
CALSCALE:GREGORIAN
BEGIN:VEVENT
DTSTART:20121020T150000Z
DTEND:20121020T160000Z
X-MICROSOFT-CDO-ALLDAYEVENT:FALSE
SUMMARY:LEARN THE STEPS
DESCRIPTION:Ever wonder exactly what those feet are doing? Come on down and take the time to learn the moves behind Zumba in a non choreoed setting. We will have music on but will break down exactly what our feet are doing :) Regular class prices apply.\n\n\n\nWe will also hold LEARN THE STEPS on October 27th but it is suggested to attend BOTH days\, as we may not do the same styles!
X-ALT-DESC;FMTTYPE=text/html:&nbsp\;Ever wonder exactly what those feet are doing? Come on down and take the time to learn the moves behind Zumba in a non choreoed setting. We will have music on but will break down exactly what our feet are doing :) Regular class prices apply.<br />\n<br />\nWe will also hold LEARN THE STEPS on October 27th but it is suggested to attend BOTH days\, as we may not do the same styles!&nbsp\;
LOCATION:Brickhouse Cardio Club 12 High Street Riverwalk Unit #1
UID:e.726.3021
SEQUENCE:3
DTSTAMP:20260421T161717Z
URL:https://www.oceanchamber.org/events/details/learn-the-steps-3021
END:VEVENT

END:VCALENDAR
