BEGIN:VCALENDAR
VERSION:2.0
PRODID:-//ChamberMaster//Event Calendar 2.0//EN
METHOD:PUBLISH
X-PUBLISHED-TTL:P3D
REFRESH-INTERVAL:P3D
CALSCALE:GREGORIAN
BEGIN:VEVENT
DTSTART:20121118T120000Z
DTEND:20121118T160000Z
X-MICROSOFT-CDO-ALLDAYEVENT:FALSE
SUMMARY:KNIGHTS OF COLUMBUS MONTHLY BREAKFAST
DESCRIPTION:Menu: Build your own omelet bar\, home fries\, toast or pancakes & sausage\, juice\,coffee\,tea or hot chocolate. Adults $7 Children $3
X-ALT-DESC;FMTTYPE=text/html:<p>\n	Menu: Build your own omelet bar\, home fries\, toast or pancakes &amp\; sausage\, juice\,coffee\,tea or hot chocolate. Adults $7 Children $3</p>\n
LOCATION:Westerly Knights of Columbus hall 33 1/3 HIgh Street Downtown behind Miceli's furniture
UID:e.726.3066
SEQUENCE:3
DTSTAMP:20260421T165731Z
URL:https://www.oceanchamber.org/events/details/knights-of-columbus-monthly-breakfast-3066
END:VEVENT

END:VCALENDAR
