BEGIN:VCALENDAR
VERSION:2.0
PRODID:-//ChamberMaster//Event Calendar 2.0//EN
METHOD:PUBLISH
X-PUBLISHED-TTL:P3D
REFRESH-INTERVAL:P3D
CALSCALE:GREGORIAN
BEGIN:VEVENT
DTSTART:20121027T220000Z
DTEND:20121028T010000Z
X-MICROSOFT-CDO-ALLDAYEVENT:FALSE
SUMMARY:Jonnycake Halloween Bowling Bash
DESCRIPTION:A fabulous night of costume bowling to benefit the Jonnycake Center! Prizes for best costume/best team theme costume! Food\, raffles\, music\, and more at Alley Katz! $25/person to bowl.
X-ALT-DESC;FMTTYPE=text/html:A fabulous night of costume bowling to benefit the Jonnycake Center! Prizes for best costume/best team theme costume! Food\, raffles\, music\, and more at Alley Katz! $25/person to bowl. 
LOCATION:
UID:e.726.2975
SEQUENCE:3
DTSTAMP:20260421T161738Z
URL:https://www.oceanchamber.org/events/details/jonnycake-halloween-bowling-bash-2975
END:VEVENT

END:VCALENDAR
