BEGIN:VCALENDAR
VERSION:2.0
PRODID:-//ChamberMaster//Event Calendar 2.0//EN
METHOD:PUBLISH
X-PUBLISHED-TTL:P3D
REFRESH-INTERVAL:P3D
CALSCALE:GREGORIAN
BEGIN:VEVENT
DTSTART:20121026T223000Z
DTEND:20121027T003000Z
X-MICROSOFT-CDO-ALLDAYEVENT:FALSE
SUMMARY:Family Movie Night - "October Baby"
DESCRIPTION:The powerful story of a young woman who went to find her birth-mother and the incredible things she experienced on her journey. (Rated PG-13)  Admission is FREE...popcorn\, candy and beverages available for a donation.
X-ALT-DESC;FMTTYPE=text/html:<p>\n	<span style="color: #0000ff"><strong><span style="font-size: 16px">The powerful story of a young woman who went to find her birth-mother and the incredible things she experienced on her journey. (Rated PG-13)&nbsp\; Admission is FREE...popcorn\, candy and beverages available for a donation. </span></strong></span></p>\n
LOCATION:Ocean Community Christian Church\, Ocean Plaza\, 62 Franklin Street\, Suite 13\, Westerly\, RI
UID:e.726.3039
SEQUENCE:3
DTSTAMP:20260421T162356Z
URL:https://www.oceanchamber.org/events/details/family-movie-night-october-baby-3039
END:VEVENT

END:VCALENDAR
