BEGIN:VCALENDAR
VERSION:2.0
PRODID:-//ChamberMaster//Event Calendar 2.0//EN
METHOD:PUBLISH
X-PUBLISHED-TTL:P3D
REFRESH-INTERVAL:P3D
CALSCALE:GREGORIAN
BEGIN:VEVENT
DTSTART:20260422T220000Z
DTEND:20260423T000000Z
X-MICROSOFT-CDO-ALLDAYEVENT:FALSE
SUMMARY:Estate Planning Seminar
DESCRIPTION:Estate and Tax Planning Basics\n\n\n\nJoin us for a panel lead discussion regarding the basics of estate planning. Professionals from our\n\nmembership will provide basic information on Beneficiary Designations\, Wills\, Powers of Attorney and\n\nTrusts. There will be a Q and A portion to follow.
X-ALT-DESC;FMTTYPE=text/html:Estate and Tax Planning Basics<br />\n<br />\nJoin us for a panel lead discussion regarding the basics of estate planning. Professionals from our<br />\nmembership will provide basic information on Beneficiary Designations\, Wills\, Powers of Attorney and<br />\nTrusts. There will be a Q and A portion to follow.
LOCATION:Stonington Community Center (COMO) 28 Cutler Street Stonington\, CT 06378
UID:e.726.49229
SEQUENCE:3
DTSTAMP:20260422T074816Z
URL:https://www.oceanchamber.org/events/details/estate-planning-seminar-49229
END:VEVENT

END:VCALENDAR
