BEGIN:VCALENDAR
VERSION:2.0
PRODID:-//ChamberMaster//Event Calendar 2.0//EN
METHOD:PUBLISH
X-PUBLISHED-TTL:P3D
REFRESH-INTERVAL:P3D
CALSCALE:GREGORIAN
BEGIN:VEVENT
DTSTART:20121004T220000Z
DTEND:20121004T230000Z
X-MICROSOFT-CDO-ALLDAYEVENT:FALSE
SUMMARY:Dylan Lauren of Dylan's Candy Bar to Sign Book at Mohegan Sun
DESCRIPTION:Owner of Dylan's Candy Bar\, Dylan Lauren\, will be signing copies of her book Dylan's Candy Bar: Unwrap Your Sweet Life\, outside her new store at Mohegan Sun in Casino of the Sky on Thursday\, October 4th as part of a very "sweet" event.\n\n\n\nParticipation is on a first-come\, first-served basis. Due to time restrictions\, Dylan will only be signing copies of her book\, Dylan's Candy Bar: Unwrap Your Sweet Life.
X-ALT-DESC;FMTTYPE=text/html:Owner of Dylan&rsquo\;s Candy Bar\, Dylan Lauren\, will be signing copies of her book <em>Dylan&rsquo\;s Candy Bar: Unwrap Your Sweet Life</em>\, outside her new store at Mohegan Sun in Casino of the Sky on Thursday\, October 4th as part of a very &ldquo\;sweet&rdquo\; event.<br />\n<br />\nParticipation is on a first-come\, first-served basis. Due to time restrictions\, Dylan will only be signing copies of her book\,<em> Dylan&rsquo\;s Candy Bar: Unwrap Your Sweet Life</em>.<br />\n
LOCATION:Dylan's Candy Bar\, Casino of the Sky\, Mohegan Sun
UID:e.726.3008
SEQUENCE:3
DTSTAMP:20260421T162407Z
URL:https://www.oceanchamber.org/events/details/dylan-lauren-of-dylan-s-candy-bar-to-sign-book-at-mohegan-sun-3008
END:VEVENT

END:VCALENDAR
