BEGIN:VCALENDAR
VERSION:2.0
PRODID:-//ChamberMaster//Event Calendar 2.0//EN
METHOD:PUBLISH
X-PUBLISHED-TTL:P3D
REFRESH-INTERVAL:P3D
CALSCALE:GREGORIAN
BEGIN:VEVENT
DTSTART:20121001T230000Z
DTEND:20121002T010000Z
X-MICROSOFT-CDO-ALLDAYEVENT:FALSE
SUMMARY:Charles Perry (1809-1890): A Nineteenth-Century Westerly Notable
DESCRIPTION:"Banker\, farmer\, Quaker\, abolitionist\, pacifist\, family folklore\, tangential topics and documented details of private converstions with President Lincoln during the Civil War" is how Harvey Perry II describes his talk about his ancestor\, Charles Perry.\n\n	At the Carriage House.  Non-members $2.00\; members free.
X-ALT-DESC;FMTTYPE=text/html:&quot\;Banker\, farmer\, Quaker\, abolitionist\, pacifist\, family folklore\, tangential topics and documented details of private converstions with President Lincoln during the Civil War&quot\; is how Harvey Perry II describes his talk about his ancestor\, Charles Perry.\n<p>\n	At the Carriage House.&nbsp\; Non-members $2.00\; members free.</p>\n
LOCATION:Babcock-Smith House Museum 124 Granite St Westerly\, RI
UID:e.726.2026
SEQUENCE:3
DTSTAMP:20260421T162141Z
URL:https://www.oceanchamber.org/events/details/charles-perry-1809-1890-a-nineteenth-century-westerly-notable-2026
END:VEVENT

END:VCALENDAR
