BEGIN:VCALENDAR
VERSION:2.0
PRODID:-//ChamberMaster//Event Calendar 2.0//EN
METHOD:PUBLISH
X-PUBLISHED-TTL:P3D
REFRESH-INTERVAL:P3D
CALSCALE:GREGORIAN
BEGIN:VEVENT
DTSTART:20260503T003000Z
DTEND:20260503T033000Z
X-MICROSOFT-CDO-ALLDAYEVENT:FALSE
SUMMARY:Bingo Unleashed
DESCRIPTION:Half Bingo. Half Party. All Fun.\n\nLive DJ   Throwback Hits   Karaoke Showdowns   Lip-sync Contests   Spontaneous Dance-offs\n\n\n\nFoxwoods is unleashing a new kind of Bingo. We're bringing the party with music\, lights\, exciting prizes\, and of course\, high stakes. It's not just Bingo\, it's Bingo Unleashed.\n\n\n\nDoors open at 6:30PM\n\n\n\nTicket includes games\, dauber\, alcoholic or non-alcoholic ready to drink beverage\, snack and glow kit.
X-ALT-DESC;FMTTYPE=text/html:Half Bingo. Half Party. All Fun.<br />\nLive DJ &bull\; Throwback Hits &bull\; Karaoke Showdowns &bull\; Lip-sync Contests &bull\; Spontaneous Dance-offs<br />\n<br />\nFoxwoods is unleashing a new kind of Bingo. We&#39\;re bringing the party with music\, lights\, exciting prizes\, and of course\, high stakes. It&#39\;s not just Bingo\, it&#39\;s Bingo Unleashed.<br />\n<br />\nDoors open at 6:30PM<br />\n<br />\nTicket includes games\, dauber\, alcoholic or non-alcoholic ready to drink beverage\, snack and glow kit.
LOCATION:High Stakes Bingo Hall\, Foxwoods Resort Casino
UID:e.726.49223
SEQUENCE:3
DTSTAMP:20260422T165710Z
URL:https://www.oceanchamber.org/events/details/bingo-unleashed-05-02-2026-49223
END:VEVENT

END:VCALENDAR
