BEGIN:VCALENDAR
VERSION:2.0
PRODID:-//ChamberMaster//Event Calendar 2.0//EN
METHOD:PUBLISH
X-PUBLISHED-TTL:P3D
REFRESH-INTERVAL:P3D
CALSCALE:GREGORIAN
BEGIN:VEVENT
DTSTART;VALUE=DATE:20121001
DTEND;VALUE=DATE:20121101
TRANSP:TRANSPARENT
X-MICROSOFT-CDO-ALLDAYEVENT:TRUE
SUMMARY:Bates Haunted Motel
DESCRIPTION:All through October Sandy Shore Motel
X-ALT-DESC;FMTTYPE=text/html:All through October Sandy Shore Motel
LOCATION:Sandy Shore Motel 149 Atlantic Ave. Misquamicut\, RI
UID:e.726.1319
SEQUENCE:3
DTSTAMP:20260421T161844Z
URL:https://www.oceanchamber.org/events/details/bates-haunted-motel-1319
END:VEVENT

END:VCALENDAR
