BEGIN:VCALENDAR
VERSION:2.0
PRODID:-//ChamberMaster//Event Calendar 2.0//EN
METHOD:PUBLISH
X-PUBLISHED-TTL:P3D
REFRESH-INTERVAL:P3D
CALSCALE:GREGORIAN
BEGIN:VEVENT
DTSTART:20260801T140000Z
DTEND:20260801T200000Z
X-MICROSOFT-CDO-ALLDAYEVENT:FALSE
SUMMARY:74th Annual COMO Village Fair
DESCRIPTION:Back for it's 74th year\, the COMO Village Fair is an annual celebration of community featuring over 50 local artists and crafters\, food trucks\, local musicians\, children's games and prizes\, sweet bread\, floral sales\, used book sale\, and more. This event is free to attend and serves as a fundraiser for the Stonington Community Center (COMO). Sponsorships and artisan spaces available!
X-ALT-DESC;FMTTYPE=text/html:<div>\n<div style="margin-right:auto">\n<div>Back for it&#39\;s 74th year\, the COMO Village Fair is an annual celebration of community featuring over 50 local artists and crafters\, food trucks\, local musicians\, children&#39\;s games and prizes\, sweet bread\, floral sales\, used book sale\, and more. This event is free to attend and serves as a fundraiser for the Stonington Community Center (COMO). Sponsorships and artisan spaces available!</div>\n</div>\n</div>\n
LOCATION:Wadwanuck Square\, Stonington Borough
UID:e.726.48705
SEQUENCE:3
DTSTAMP:20260421T041954Z
URL:https://www.oceanchamber.org/events/details/74th-annual-como-village-fair-48705
END:VEVENT

END:VCALENDAR
