BEGIN:VCALENDAR
VERSION:2.0
PRODID:-//ChamberMaster//Event Calendar 2.0//EN
METHOD:PUBLISH
X-PUBLISHED-TTL:P3D
REFRESH-INTERVAL:P3D
CALSCALE:GREGORIAN
BEGIN:VEVENT
DTSTART:20261017T200000Z
DTEND:20261017T220000Z
X-MICROSOFT-CDO-ALLDAYEVENT:FALSE
SUMMARY:4th Annual Fall Fest & Pumpkin Stroll
DESCRIPTION:Don't miss an afternoon and evening of Halloween fun for all ages! \n\nCheck out our 5th Annual Pumpkin Stroll\, decorated by members of the public\, while enjoying free cider and doughnuts! Don't forget to vote on your favorites - prizes will be awarded to the top pumpkins!\n\nThere will be a variety of other activities in the park\, including games and activities for kids\, and photo opportunities. Attendees are encouraged to come dressed in your Halloween costume\, and to show it off during our Costume Parade.\n\nInterested in submitting a pumpkin for the stroll? Registration will open on Saturday\, October 10th. Free pumpkins are available at the library on a first come\, first served basis\, beginning Saturday\, October 10th\, or you may also provide your own pumpkin. Decorated pumpkins must be returned to the library no later than Friday\, October 16th to be entered into the Pumpkin Stroll and contest.\n\nThis event is open to all ages. Contact reference@westerlylibrary.org OR call (401) 596-2877 x306 for more details.
X-ALT-DESC;FMTTYPE=text/html:<p>Don&#39\;t miss an afternoon and evening of Halloween fun for all ages!&nbsp\;</p>\n\n<p>Check out our 5th Annual Pumpkin Stroll\, decorated by members of the public\, while enjoying free cider and doughnuts! Don&#39\;t forget to vote on your favorites - prizes will be awarded to the top pumpkins!</p>\n\n<p>There will be a variety of other activities in the park\, including games and activities for kids\, and photo opportunities. Attendees are encouraged to come dressed in your Halloween costume\, and to show it off during our Costume Parade.</p>\n\n<p>Interested in submitting a pumpkin for the stroll?&nbsp\;Registration will open on Saturday\, October 10th.&nbsp\;Free pumpkins are available at the library on a first come\, first served basis\, beginning Saturday\, October 10th\, or you may also provide your own pumpkin. Decorated pumpkins must be returned to the library no later than Friday\, October 16th to be entered into the Pumpkin Stroll and contest.</p>\n\n<p>This event is open to all ages. Contact&nbsp\;<a href="mailto:cskobrak@westerlylibrary.org" style="box-sizing: border-box\; color: rgb(0\, 131\, 140)\; font-size: 1.0625rem\; font-weight: bold\; text-underline-position: under\;" target="_blank">reference@westerlylibrary.org</a>&nbsp\;OR call (401) 596-2877 x306 for more details.</p>\n
LOCATION:Westerly Library & Wilcox Park 44 Broad Street\, Westerly\, RI 02891
UID:e.726.48793
SEQUENCE:3
DTSTAMP:20260421T042002Z
URL:https://www.oceanchamber.org/events/details/4th-annual-fall-fest-pumpkin-stroll-48793
END:VEVENT

END:VCALENDAR
