BEGIN:VCALENDAR
VERSION:2.0
PRODID:-//ChamberMaster//Event Calendar 2.0//EN
METHOD:PUBLISH
X-PUBLISHED-TTL:P3D
REFRESH-INTERVAL:P3D
CALSCALE:GREGORIAN
BEGIN:VEVENT
DTSTART:20121007T230000Z
DTEND:20121008T010000Z
X-MICROSOFT-CDO-ALLDAYEVENT:FALSE
SUMMARY:15th Annual Guy Fawkes Bonfire Night
DESCRIPTION:Complete with re-enactment of the 1605 trial for treason of Guy Fawkes by the "Misquamicut Players."  Music\, Bonfire\, Dancers\, Actros\, Fife and Drum and more.
X-ALT-DESC;FMTTYPE=text/html:Complete with re-enactment of the 1605 trial for treason of Guy Fawkes by the &quot\;Misquamicut Players.&quot\;&nbsp\; Music\, Bonfire\, Dancers\, Actros\, Fife and Drum and more.&nbsp\; 
LOCATION:Andrea Hotel 89 Atlantic Ave. Westerly\, RI
UID:e.726.1318
SEQUENCE:3
DTSTAMP:20260421T162218Z
URL:https://www.oceanchamber.org/events/details/15th-annual-guy-fawkes-bonfire-night-1318
END:VEVENT

END:VCALENDAR
